BEGIN:VCALENDAR
VERSION:2.0
PRODID:-//Diamond Light Tibetan Buddhist Group - ECPv6.15.13//NONSGML v1.0//EN
CALSCALE:GREGORIAN
METHOD:PUBLISH
X-ORIGINAL-URL:https://www.diamondlightsac.org
X-WR-CALDESC:Events for Diamond Light Tibetan Buddhist Group
REFRESH-INTERVAL;VALUE=DURATION:PT1H
X-Robots-Tag:noindex
X-PUBLISHED-TTL:PT1H
BEGIN:VTIMEZONE
TZID:UTC
BEGIN:STANDARD
TZOFFSETFROM:+0000
TZOFFSETTO:+0000
TZNAME:UTC
DTSTART:20160101T000000
END:STANDARD
END:VTIMEZONE
BEGIN:VEVENT
DTSTART;VALUE=DATE:20171228
DTEND;VALUE=DATE:20180102
DTSTAMP:20260424T174424
CREATED:20170723T085450Z
LAST-MODIFIED:20171002T044454Z
UID:10000322-1514419200-1514851199@www.diamondlightsac.org
SUMMARY:Healing into Wholeness - New Year's Retreat with Amie Diller
DESCRIPTION:This retreat is currently full\, but we are accepting names on our waiting list! Please email DLRetreatCoordinator@gmail.com to get your name added to the list and we will contact you should a spot become available!  \nJoin Amie Diller for a silent 5 day retreat on mandalas\, Tibetan Buddhism and Jung. The retreat will include guided meditations\, dharma talks\, New Years fire puja\, nature and R&R. More info coming soon! E-mail DLRetreatCoordinator@gmail.com for questions. \nThursday 12/28 2017-Monday 1/1 2018\nat Harmony Ridge in Grass Valley \ncost: $500\, includes shared room and vegetarian meals.
URL:https://www.diamondlightsac.org/event/healing-into-wholeness-new-years-retreat-with-amie-miller/
CATEGORIES:Retreat
ORGANIZER;CN="Diamond Light Tibetan Buddhist Group":MAILTO:diamondlight.sac@gmail.com
END:VEVENT
BEGIN:VEVENT
DTSTART;TZID=UTC:20170917T123000
DTEND;TZID=UTC:20170917T173000
DTSTAMP:20260424T174424
CREATED:20170822T103521Z
LAST-MODIFIED:20170822T225610Z
UID:10000054-1505651400-1505669400@www.diamondlightsac.org
SUMMARY:Cutting Through to Pristine Awareness
DESCRIPTION:Cutting Through to Pristine Awareness: Foundations in Dzogchen Meditation\nwith Doug Veenhof \nTwo weekends: 9/9-9/10 and 9/16 and 9/17 from 12:30-5:30pm each day.\nThe weekends will build on each other\, but feel free to come as you are able. \nMeditation is the tool we use to look at our minds\, cutting through the fog of our thoughts and getting to the pristine awareness that is inherent in all of us. \nThis 22-hour immersion in Dzogchen meditation and view will cover the essential preliminary attitudes to set up a successful meditation practice. Doug will cover a full range of shamatha practices for developing meditation stability and vividness through single pointed focus\, and the vipashyana meditations that power the insights that cut through illusory appearances to pristine awareness.   \nConveniently scheduled on two consecutive weekends\, this program provides the transformative intensity of retreat with the casual flexibility and interaction of a workshop. \nThe program segments include talks that include practical meditation instruction and tips suitable for all experience levels as well as explorations of the exhilarating philosophy that underpins the Dzogchen Buddhist view of consciousness and the world of experience. Each segment is anchored by a 24-minute meditation that integrates the view into a comprehensive progression of practices to take home with you. \nTopics include: The Three Thoughts that Turn the Mind; Adding a Mute Switch to the Ruminating Mind with Breath Meditation; Structures of Consciousness; Taking Mental Appearances as the Object of Meditation; Can “I” Be Found; The Empty Nature of the Mind; and Spontaneous Presence.
URL:https://www.diamondlightsac.org/event/cutting-through-to-pristine-awareness/2017-09-17/
CATEGORIES:Retreat
END:VEVENT
END:VCALENDAR