BEGIN:VCALENDAR
VERSION:2.0
PRODID:-//Diamond Light Tibetan Buddhist Group - ECPv6.15.13//NONSGML v1.0//EN
CALSCALE:GREGORIAN
METHOD:PUBLISH
X-ORIGINAL-URL:https://www.diamondlightsac.org
X-WR-CALDESC:Events for Diamond Light Tibetan Buddhist Group
REFRESH-INTERVAL;VALUE=DURATION:PT1H
X-Robots-Tag:noindex
X-PUBLISHED-TTL:PT1H
BEGIN:VTIMEZONE
TZID:America/Los_Angeles
BEGIN:DAYLIGHT
TZOFFSETFROM:-0800
TZOFFSETTO:-0700
TZNAME:PDT
DTSTART:20230312T100000
END:DAYLIGHT
BEGIN:STANDARD
TZOFFSETFROM:-0700
TZOFFSETTO:-0800
TZNAME:PST
DTSTART:20231105T090000
END:STANDARD
BEGIN:DAYLIGHT
TZOFFSETFROM:-0800
TZOFFSETTO:-0700
TZNAME:PDT
DTSTART:20240310T100000
END:DAYLIGHT
BEGIN:STANDARD
TZOFFSETFROM:-0700
TZOFFSETTO:-0800
TZNAME:PST
DTSTART:20241103T090000
END:STANDARD
BEGIN:DAYLIGHT
TZOFFSETFROM:-0800
TZOFFSETTO:-0700
TZNAME:PDT
DTSTART:20250309T100000
END:DAYLIGHT
BEGIN:STANDARD
TZOFFSETFROM:-0700
TZOFFSETTO:-0800
TZNAME:PST
DTSTART:20251102T090000
END:STANDARD
END:VTIMEZONE
BEGIN:VEVENT
DTSTART;TZID=America/Los_Angeles:20240120T090000
DTEND;TZID=America/Los_Angeles:20240120T123000
DTSTAMP:20260425T055455
CREATED:20231208T051124Z
LAST-MODIFIED:20240112T163755Z
UID:10002018-1705741200-1705753800@www.diamondlightsac.org
SUMMARY:Sadhana Meditation 1/2 Day Retreat
DESCRIPTION:After meeting on Zoom the past few years\, we are excited to get together with Diamond Light community in person and meditate together! We will review the basics of Calm Abiding meditation\, and the structure of a traditional Tibetan Buddhist daily practice\, known as “Sadhana”. We will end our morning by practicing together a guided Calm Abiding and a Tibetan Sadhana meditation. \nSaturday\, January 20\, 2024\n9:00 am – 12:30 pm (PST) \nPre-registration: https://bookwhen.com/diamondlightsac/e/ev-s4py-20240120090000 \nThis class will be held in-person only (no hybrid option). Location:\nSierra 2 Center\, Room 14\n2791 24th Street\, Sacramento CA 95818\nThere is a parking lot off 4th Ave\, behind the Sierra 2 Center; the room is on the second floor. \nSuggested donation: $10-$30 to cover expenses\, which include ongoing rent for our Center\, fees to provide online services and supporting our teachers. No one turned away due to lack of funds.\nWays to Donate:\nWebsite: www.diamondlightsac.org/donate/\nPayPal: Diamond Light on PayPal\nVenmo: Diamond Light on Venmo \n\nAbout the Teacher: David Drabble is a long-time meditator and Buddhist practitioner. He leads the Monday evening meditation classes for Diamond Light\, has been a sangha member for over 14 years\, and is the President of Diamond Light’s Board of Directors.
URL:https://www.diamondlightsac.org/event/sadhana-meditation-retreat-2024/
LOCATION:Diamond Light Meditation Center\, 2791 24th Street\, Room 14 (upstairs)\, Sacramento\, CA\, 95818
CATEGORIES:Workshop
ORGANIZER;CN="Diamond Light Tibetan Buddhist Group":MAILTO:diamondlight.sac@gmail.com
GEO:38.5603056;-121.4970294
X-APPLE-STRUCTURED-LOCATION;VALUE=URI;X-ADDRESS=Diamond Light Meditation Center 2791 24th Street Room 14 (upstairs) Sacramento CA 95818;X-APPLE-RADIUS=500;X-TITLE=2791 24th Street\, Room 14 (upstairs):geo:-121.4970294,38.5603056
END:VEVENT
END:VCALENDAR