BEGIN:VCALENDAR
VERSION:2.0
PRODID:-//Diamond Light Tibetan Buddhist Group - ECPv6.15.13//NONSGML v1.0//EN
CALSCALE:GREGORIAN
METHOD:PUBLISH
X-WR-CALNAME:Diamond Light Tibetan Buddhist Group
X-ORIGINAL-URL:https://www.diamondlightsac.org
X-WR-CALDESC:Events for Diamond Light Tibetan Buddhist Group
REFRESH-INTERVAL;VALUE=DURATION:PT1H
X-Robots-Tag:noindex
X-PUBLISHED-TTL:PT1H
BEGIN:VTIMEZONE
TZID:America/Los_Angeles
BEGIN:DAYLIGHT
TZOFFSETFROM:-0800
TZOFFSETTO:-0700
TZNAME:PDT
DTSTART:20220313T100000
END:DAYLIGHT
BEGIN:STANDARD
TZOFFSETFROM:-0700
TZOFFSETTO:-0800
TZNAME:PST
DTSTART:20221106T090000
END:STANDARD
BEGIN:DAYLIGHT
TZOFFSETFROM:-0800
TZOFFSETTO:-0700
TZNAME:PDT
DTSTART:20230312T100000
END:DAYLIGHT
BEGIN:STANDARD
TZOFFSETFROM:-0700
TZOFFSETTO:-0800
TZNAME:PST
DTSTART:20231105T090000
END:STANDARD
BEGIN:DAYLIGHT
TZOFFSETFROM:-0800
TZOFFSETTO:-0700
TZNAME:PDT
DTSTART:20240310T100000
END:DAYLIGHT
BEGIN:STANDARD
TZOFFSETFROM:-0700
TZOFFSETTO:-0800
TZNAME:PST
DTSTART:20241103T090000
END:STANDARD
END:VTIMEZONE
BEGIN:VEVENT
DTSTART;TZID=America/Los_Angeles:20230706T183000
DTEND;TZID=America/Los_Angeles:20230706T203000
DTSTAMP:20260425T085544
CREATED:20230312T041445Z
LAST-MODIFIED:20230501T220718Z
UID:10001297-1688668200-1688675400@www.diamondlightsac.org
SUMMARY:Cultivating Emotional Balance - 6 week online course
DESCRIPTION:Diamond Light Buddhist Group and CEB presents \nCultivating Emotional Balance\nSix week online course \nWith Anand Parikshak and Lani Potts \nThursday Evenings May 25-July 6\n6:30-8:30 PM PDT\nNote: No class June 29 \nCost: $195-$235\nPre-registration required\, Space is limited Register now!\nDiamondlightsac.org \nJoin us in learning and integrating the basic tools of Cultivating Emotional Balance\, a course\, inspired by His Holiness the Dalai Lama. Using insights and methods drawn from both Western psychology and Buddhist contemplative practices. we invite you to discover greater happiness and well-being. Designed using evidence-based\, practical strategies\, we will develop attention\, restore motivation\, identify the root causes of enduring happiness\, explore anger\, sadness\, and joy\, investigate different pathways of empathy\, practice self-compassion\, and build connections through vulnerability and trust. \n*Note: Completion of this class fulfills the CEB course prerequisite for CEB Teacher Training. (CEBTT)  \nFor more information and to register\, click here
URL:https://www.diamondlightsac.org/event/cultivating-emotional-balance-6-week-online-course/2023-07-06/
LOCATION:Onlie via Zoom\, 2791 24th Street\, Sacramento\, CA\, 95818\, United States
END:VEVENT
BEGIN:VEVENT
DTSTART;TZID=America/Los_Angeles:20230710T183000
DTEND;TZID=America/Los_Angeles:20230710T193000
DTSTAMP:20260425T085544
CREATED:20230609T213559Z
LAST-MODIFIED:20231026T192412Z
UID:10001323-1689013800-1689017400@www.diamondlightsac.org
SUMMARY:Online: Monday Meditation
DESCRIPTION:Join a community of meditators to learn meditation techniques and practices. Led. by long time meditator and Buddhist practitioner David Drabble\, join a supportive group to grow your meditation practice.  \nEvery Monday from 6:30pm-7:30pm \nOffered on Zoom: \nClick the link to join: https://us04web.zoom.us/j/2247358115\nMeeting ID is: 224 735 8115\nPasscode: 1234 \nDonation Based we suggest $10-$20 per class. No one turned away for lack of funds.\nWays to Donate:\nWebsite: https://www.diamondlightsac.org/donate/\nPayPal: https://www.paypal.com/paypalme/diamondlightsac\nVenmo: https://account.venmo.com/u/diamondlight
URL:https://www.diamondlightsac.org/event/online-tibetan-buddhist-meditation-2/2023-07-10/
LOCATION:Diamond Light Meditation Center\, 2791 24th Street\, Room 14 (upstairs)\, Sacramento\, CA\, 95818
ORGANIZER;CN="Diamond Light Tibetan Buddhist Group":MAILTO:diamondlight.sac@gmail.com
GEO:38.5603056;-121.4970294
X-APPLE-STRUCTURED-LOCATION;VALUE=URI;X-ADDRESS=Diamond Light Meditation Center 2791 24th Street Room 14 (upstairs) Sacramento CA 95818;X-APPLE-RADIUS=500;X-TITLE=2791 24th Street\, Room 14 (upstairs):geo:-121.4970294,38.5603056
END:VEVENT
BEGIN:VEVENT
DTSTART;TZID=America/Los_Angeles:20230711T183000
DTEND;TZID=America/Los_Angeles:20230711T203000
DTSTAMP:20260425T085544
CREATED:20230620T131707Z
LAST-MODIFIED:20230620T161400Z
UID:10001342-1689100200-1689107400@www.diamondlightsac.org
SUMMARY:Dharma Essentials: Life & Reincarnation with Jay Nair
DESCRIPTION:Want to pursue a spiritual practice and don’t know where to start? Have you been studying Buddhism for a while and want to discover where to go next? Tibetan Buddhism offers a complete path to enlightenment\, starting with the basics. Join Jay Nair as he resumes the Dharma Essentials courses with a beginners look at life and reincarnation. \nTuesdays\, June 6th – July 25th\n6:30pm-8:30pm\n(No class on July 4th) \nHybrid options for attending:\nYou can attend in person: 2791 24th Street\, Room 14 Sacramento CA 95818 (parking lot off 4th Ave\, the room is upstairs). \nZoom Meeting ID: 224-735-8115\nPasscode: 1234\nZoom Link: https://us04web.zoom.us/j/2247358115 \nwww.diamondlightsac.org/donate or “Diamond Light” on Venmo. Suggested donation: $10-$20 to cover expenses\, which include ongoing rent for our Center\, fees to provide online services and supporting our teachers. No one turned away due to lack of funds. \n\nAbout the Teacher: Hailing from a traditional South Indian Yogic family\, Jay Nair grew up by the banks of river Periyar\, has been practicing some type of yoga and socially engaged spirituality from early on in life and studying modern Mindfulness since 2010. He also received training in Tibetan and Vipassana practices\, and participated in many long term yoga meditation retreats. Jay Nair is trained in Indian Music and started performing solo concerts at the early age of ten. Since then Jay has been  performing and recording Indian and world fusion music. IT Engineer by profession\, Jay is a blend of Science\, Art and Spirituality and believes Technology and Consciousness transforms each other.
URL:https://www.diamondlightsac.org/event/dharma-essentials-life-reincarnation-with-jay-nair-2/2023-07-11/
LOCATION:Sierra 2 Center\, Room 14\, 2791 24th Street\, Sacramento\, CA\, 95818\, United States
CATEGORIES:Class Series
GEO:38.5538259;-121.4831665
X-APPLE-STRUCTURED-LOCATION;VALUE=URI;X-ADDRESS=Sierra 2 Center Room 14 2791 24th Street Sacramento CA 95818 United States;X-APPLE-RADIUS=500;X-TITLE=2791 24th Street:geo:-121.4831665,38.5538259
END:VEVENT
BEGIN:VEVENT
DTSTART;TZID=America/Los_Angeles:20230717T183000
DTEND;TZID=America/Los_Angeles:20230717T193000
DTSTAMP:20260425T085544
CREATED:20230609T213559Z
LAST-MODIFIED:20231026T192412Z
UID:10001324-1689618600-1689622200@www.diamondlightsac.org
SUMMARY:Online: Monday Meditation
DESCRIPTION:Join a community of meditators to learn meditation techniques and practices. Led. by long time meditator and Buddhist practitioner David Drabble\, join a supportive group to grow your meditation practice.  \nEvery Monday from 6:30pm-7:30pm \nOffered on Zoom: \nClick the link to join: https://us04web.zoom.us/j/2247358115\nMeeting ID is: 224 735 8115\nPasscode: 1234 \nDonation Based we suggest $10-$20 per class. No one turned away for lack of funds.\nWays to Donate:\nWebsite: https://www.diamondlightsac.org/donate/\nPayPal: https://www.paypal.com/paypalme/diamondlightsac\nVenmo: https://account.venmo.com/u/diamondlight
URL:https://www.diamondlightsac.org/event/online-tibetan-buddhist-meditation-2/2023-07-17/
LOCATION:Diamond Light Meditation Center\, 2791 24th Street\, Room 14 (upstairs)\, Sacramento\, CA\, 95818
ORGANIZER;CN="Diamond Light Tibetan Buddhist Group":MAILTO:diamondlight.sac@gmail.com
GEO:38.5603056;-121.4970294
X-APPLE-STRUCTURED-LOCATION;VALUE=URI;X-ADDRESS=Diamond Light Meditation Center 2791 24th Street Room 14 (upstairs) Sacramento CA 95818;X-APPLE-RADIUS=500;X-TITLE=2791 24th Street\, Room 14 (upstairs):geo:-121.4970294,38.5603056
END:VEVENT
BEGIN:VEVENT
DTSTART;TZID=America/Los_Angeles:20230718T183000
DTEND;TZID=America/Los_Angeles:20230718T203000
DTSTAMP:20260425T085544
CREATED:20230620T131707Z
LAST-MODIFIED:20230620T161400Z
UID:10001343-1689705000-1689712200@www.diamondlightsac.org
SUMMARY:Dharma Essentials: Life & Reincarnation with Jay Nair
DESCRIPTION:Want to pursue a spiritual practice and don’t know where to start? Have you been studying Buddhism for a while and want to discover where to go next? Tibetan Buddhism offers a complete path to enlightenment\, starting with the basics. Join Jay Nair as he resumes the Dharma Essentials courses with a beginners look at life and reincarnation. \nTuesdays\, June 6th – July 25th\n6:30pm-8:30pm\n(No class on July 4th) \nHybrid options for attending:\nYou can attend in person: 2791 24th Street\, Room 14 Sacramento CA 95818 (parking lot off 4th Ave\, the room is upstairs). \nZoom Meeting ID: 224-735-8115\nPasscode: 1234\nZoom Link: https://us04web.zoom.us/j/2247358115 \nwww.diamondlightsac.org/donate or “Diamond Light” on Venmo. Suggested donation: $10-$20 to cover expenses\, which include ongoing rent for our Center\, fees to provide online services and supporting our teachers. No one turned away due to lack of funds. \n\nAbout the Teacher: Hailing from a traditional South Indian Yogic family\, Jay Nair grew up by the banks of river Periyar\, has been practicing some type of yoga and socially engaged spirituality from early on in life and studying modern Mindfulness since 2010. He also received training in Tibetan and Vipassana practices\, and participated in many long term yoga meditation retreats. Jay Nair is trained in Indian Music and started performing solo concerts at the early age of ten. Since then Jay has been  performing and recording Indian and world fusion music. IT Engineer by profession\, Jay is a blend of Science\, Art and Spirituality and believes Technology and Consciousness transforms each other.
URL:https://www.diamondlightsac.org/event/dharma-essentials-life-reincarnation-with-jay-nair-2/2023-07-18/
LOCATION:Sierra 2 Center\, Room 14\, 2791 24th Street\, Sacramento\, CA\, 95818\, United States
CATEGORIES:Class Series
GEO:38.5538259;-121.4831665
X-APPLE-STRUCTURED-LOCATION;VALUE=URI;X-ADDRESS=Sierra 2 Center Room 14 2791 24th Street Sacramento CA 95818 United States;X-APPLE-RADIUS=500;X-TITLE=2791 24th Street:geo:-121.4831665,38.5538259
END:VEVENT
BEGIN:VEVENT
DTSTART;TZID=America/Los_Angeles:20230724T183000
DTEND;TZID=America/Los_Angeles:20230724T193000
DTSTAMP:20260425T085544
CREATED:20230609T213559Z
LAST-MODIFIED:20231026T192412Z
UID:10001325-1690223400-1690227000@www.diamondlightsac.org
SUMMARY:Online: Monday Meditation
DESCRIPTION:Join a community of meditators to learn meditation techniques and practices. Led. by long time meditator and Buddhist practitioner David Drabble\, join a supportive group to grow your meditation practice.  \nEvery Monday from 6:30pm-7:30pm \nOffered on Zoom: \nClick the link to join: https://us04web.zoom.us/j/2247358115\nMeeting ID is: 224 735 8115\nPasscode: 1234 \nDonation Based we suggest $10-$20 per class. No one turned away for lack of funds.\nWays to Donate:\nWebsite: https://www.diamondlightsac.org/donate/\nPayPal: https://www.paypal.com/paypalme/diamondlightsac\nVenmo: https://account.venmo.com/u/diamondlight
URL:https://www.diamondlightsac.org/event/online-tibetan-buddhist-meditation-2/2023-07-24/
LOCATION:Diamond Light Meditation Center\, 2791 24th Street\, Room 14 (upstairs)\, Sacramento\, CA\, 95818
ORGANIZER;CN="Diamond Light Tibetan Buddhist Group":MAILTO:diamondlight.sac@gmail.com
GEO:38.5603056;-121.4970294
X-APPLE-STRUCTURED-LOCATION;VALUE=URI;X-ADDRESS=Diamond Light Meditation Center 2791 24th Street Room 14 (upstairs) Sacramento CA 95818;X-APPLE-RADIUS=500;X-TITLE=2791 24th Street\, Room 14 (upstairs):geo:-121.4970294,38.5603056
END:VEVENT
BEGIN:VEVENT
DTSTART;TZID=America/Los_Angeles:20230725T183000
DTEND;TZID=America/Los_Angeles:20230725T203000
DTSTAMP:20260425T085544
CREATED:20230620T131707Z
LAST-MODIFIED:20230620T161400Z
UID:10001344-1690309800-1690317000@www.diamondlightsac.org
SUMMARY:Dharma Essentials: Life & Reincarnation with Jay Nair
DESCRIPTION:Want to pursue a spiritual practice and don’t know where to start? Have you been studying Buddhism for a while and want to discover where to go next? Tibetan Buddhism offers a complete path to enlightenment\, starting with the basics. Join Jay Nair as he resumes the Dharma Essentials courses with a beginners look at life and reincarnation. \nTuesdays\, June 6th – July 25th\n6:30pm-8:30pm\n(No class on July 4th) \nHybrid options for attending:\nYou can attend in person: 2791 24th Street\, Room 14 Sacramento CA 95818 (parking lot off 4th Ave\, the room is upstairs). \nZoom Meeting ID: 224-735-8115\nPasscode: 1234\nZoom Link: https://us04web.zoom.us/j/2247358115 \nwww.diamondlightsac.org/donate or “Diamond Light” on Venmo. Suggested donation: $10-$20 to cover expenses\, which include ongoing rent for our Center\, fees to provide online services and supporting our teachers. No one turned away due to lack of funds. \n\nAbout the Teacher: Hailing from a traditional South Indian Yogic family\, Jay Nair grew up by the banks of river Periyar\, has been practicing some type of yoga and socially engaged spirituality from early on in life and studying modern Mindfulness since 2010. He also received training in Tibetan and Vipassana practices\, and participated in many long term yoga meditation retreats. Jay Nair is trained in Indian Music and started performing solo concerts at the early age of ten. Since then Jay has been  performing and recording Indian and world fusion music. IT Engineer by profession\, Jay is a blend of Science\, Art and Spirituality and believes Technology and Consciousness transforms each other.
URL:https://www.diamondlightsac.org/event/dharma-essentials-life-reincarnation-with-jay-nair-2/2023-07-25/
LOCATION:Sierra 2 Center\, Room 14\, 2791 24th Street\, Sacramento\, CA\, 95818\, United States
CATEGORIES:Class Series
GEO:38.5538259;-121.4831665
X-APPLE-STRUCTURED-LOCATION;VALUE=URI;X-ADDRESS=Sierra 2 Center Room 14 2791 24th Street Sacramento CA 95818 United States;X-APPLE-RADIUS=500;X-TITLE=2791 24th Street:geo:-121.4831665,38.5538259
END:VEVENT
BEGIN:VEVENT
DTSTART;TZID=America/Los_Angeles:20230731T183000
DTEND;TZID=America/Los_Angeles:20230731T193000
DTSTAMP:20260425T085544
CREATED:20230609T213559Z
LAST-MODIFIED:20231026T192412Z
UID:10001326-1690828200-1690831800@www.diamondlightsac.org
SUMMARY:Online: Monday Meditation
DESCRIPTION:Join a community of meditators to learn meditation techniques and practices. Led. by long time meditator and Buddhist practitioner David Drabble\, join a supportive group to grow your meditation practice.  \nEvery Monday from 6:30pm-7:30pm \nOffered on Zoom: \nClick the link to join: https://us04web.zoom.us/j/2247358115\nMeeting ID is: 224 735 8115\nPasscode: 1234 \nDonation Based we suggest $10-$20 per class. No one turned away for lack of funds.\nWays to Donate:\nWebsite: https://www.diamondlightsac.org/donate/\nPayPal: https://www.paypal.com/paypalme/diamondlightsac\nVenmo: https://account.venmo.com/u/diamondlight
URL:https://www.diamondlightsac.org/event/online-tibetan-buddhist-meditation-2/2023-07-31/
LOCATION:Diamond Light Meditation Center\, 2791 24th Street\, Room 14 (upstairs)\, Sacramento\, CA\, 95818
ORGANIZER;CN="Diamond Light Tibetan Buddhist Group":MAILTO:diamondlight.sac@gmail.com
GEO:38.5603056;-121.4970294
X-APPLE-STRUCTURED-LOCATION;VALUE=URI;X-ADDRESS=Diamond Light Meditation Center 2791 24th Street Room 14 (upstairs) Sacramento CA 95818;X-APPLE-RADIUS=500;X-TITLE=2791 24th Street\, Room 14 (upstairs):geo:-121.4970294,38.5603056
END:VEVENT
END:VCALENDAR