BEGIN:VCALENDAR
VERSION:2.0
PRODID:-//Diamond Light Tibetan Buddhist Group - ECPv6.15.13//NONSGML v1.0//EN
CALSCALE:GREGORIAN
METHOD:PUBLISH
X-WR-CALNAME:Diamond Light Tibetan Buddhist Group
X-ORIGINAL-URL:https://www.diamondlightsac.org
X-WR-CALDESC:Events for Diamond Light Tibetan Buddhist Group
REFRESH-INTERVAL;VALUE=DURATION:PT1H
X-Robots-Tag:noindex
X-PUBLISHED-TTL:PT1H
BEGIN:VTIMEZONE
TZID:America/Los_Angeles
BEGIN:DAYLIGHT
TZOFFSETFROM:-0800
TZOFFSETTO:-0700
TZNAME:PDT
DTSTART:20210314T100000
END:DAYLIGHT
BEGIN:STANDARD
TZOFFSETFROM:-0700
TZOFFSETTO:-0800
TZNAME:PST
DTSTART:20211107T090000
END:STANDARD
BEGIN:DAYLIGHT
TZOFFSETFROM:-0800
TZOFFSETTO:-0700
TZNAME:PDT
DTSTART:20220313T100000
END:DAYLIGHT
BEGIN:STANDARD
TZOFFSETFROM:-0700
TZOFFSETTO:-0800
TZNAME:PST
DTSTART:20221106T090000
END:STANDARD
BEGIN:DAYLIGHT
TZOFFSETFROM:-0800
TZOFFSETTO:-0700
TZNAME:PDT
DTSTART:20230312T100000
END:DAYLIGHT
BEGIN:STANDARD
TZOFFSETFROM:-0700
TZOFFSETTO:-0800
TZNAME:PST
DTSTART:20231105T090000
END:STANDARD
END:VTIMEZONE
BEGIN:VEVENT
DTSTART;TZID=America/Los_Angeles:20221128T183000
DTEND;TZID=America/Los_Angeles:20221128T193000
DTSTAMP:20260425T205721
CREATED:20201019T164439Z
LAST-MODIFIED:20220303T182324Z
UID:10001037-1669660200-1669663800@www.diamondlightsac.org
SUMMARY:Online: Meditation in the Tibetan Tradition
DESCRIPTION:Evidence shows that even 5 minutes of meditation a day can go a long way to reduce stress\, increase happiness\, and sharpen focus. Sometimes it seems just getting to the cushion is the biggest obstacle! \nLama Tsongkhapa describes the stages of studying Dharma: first is hearing the teachings\, (or reading the texts and commentaries). The second is contemplation\, where the student reflects on what they have learned\, examines the felt meaning\, and how it relates to one’s own life. The third is meditation\, placing focused concentration on the subject\, deepening our understanding\, and achieving realizations on the truth and nature of the dharma. \nEnjoy community\, support\, and inspiration. Join long-time meditator and Tibetan Buddhist practitioner David Drabble as he shows us what it takes to set up and keep a daily practice! Each class will have instruction\, discussion\, and meditation. \nDrop-ins encouraged! \nMondays 6:30pm-7:30pm\nClick the link to join our virtual classroom: https://us04web.zoom.us/j/2247358115 \nsuggested donation: $10-$20 per class\, no one turned away for lack of funds \nhttp://www.diamondlightsac.org
URL:https://www.diamondlightsac.org/event/online-community-meditation-in-the-tibetan-tradition-32/2022-11-28/
LOCATION:Online event
ATTACH;FMTTYPE=image/jpeg:https://www.diamondlightsac.org/wp-content/uploads/2020/07/highres_491091683-cvnPYH.tmp_.jpg
END:VEVENT
END:VCALENDAR