BEGIN:VCALENDAR
VERSION:2.0
PRODID:-//Diamond Light Tibetan Buddhist Group - ECPv6.15.13//NONSGML v1.0//EN
CALSCALE:GREGORIAN
METHOD:PUBLISH
X-ORIGINAL-URL:https://www.diamondlightsac.org
X-WR-CALDESC:Events for Diamond Light Tibetan Buddhist Group
REFRESH-INTERVAL;VALUE=DURATION:PT1H
X-Robots-Tag:noindex
X-PUBLISHED-TTL:PT1H
BEGIN:VTIMEZONE
TZID:America/Los_Angeles
BEGIN:DAYLIGHT
TZOFFSETFROM:-0800
TZOFFSETTO:-0700
TZNAME:PDT
DTSTART:20210314T100000
END:DAYLIGHT
BEGIN:STANDARD
TZOFFSETFROM:-0700
TZOFFSETTO:-0800
TZNAME:PST
DTSTART:20211107T090000
END:STANDARD
BEGIN:DAYLIGHT
TZOFFSETFROM:-0800
TZOFFSETTO:-0700
TZNAME:PDT
DTSTART:20220313T100000
END:DAYLIGHT
BEGIN:STANDARD
TZOFFSETFROM:-0700
TZOFFSETTO:-0800
TZNAME:PST
DTSTART:20221106T090000
END:STANDARD
BEGIN:DAYLIGHT
TZOFFSETFROM:-0800
TZOFFSETTO:-0700
TZNAME:PDT
DTSTART:20230312T100000
END:DAYLIGHT
BEGIN:STANDARD
TZOFFSETFROM:-0700
TZOFFSETTO:-0800
TZNAME:PST
DTSTART:20231105T090000
END:STANDARD
END:VTIMEZONE
BEGIN:VEVENT
DTSTART;TZID=America/Los_Angeles:20221227T183000
DTEND;TZID=America/Los_Angeles:20221227T203000
DTSTAMP:20260425T192034
CREATED:20221127T213621Z
LAST-MODIFIED:20221127T213621Z
UID:10001211-1672165800-1672173000@www.diamondlightsac.org
SUMMARY:Mindfulness for Dark Times with Sunil Joseph
DESCRIPTION:Tuesdays 6:30 pm- 8:30 pm\nDecember 6\, December 13\, December 20\, December 27 \nClick on the Zoom link to join: https://us04web.zoom.us/j/2247358115 \nThe beginning of winter can be challenging with the time change bringing darkness early in the evenings\, the shortening of daylight hours\, colder weather\, and a shift in our rhythms as nature slows down around us. How do we hold our hearts with care as we travel through this winter? How do we find connection and belonging while caving at home? \nEach session will be a combination of body awareness meditations and felt-sense listening practices to slow down and invite the grace/mystery that allows things to be as they are. Body awareness can withdraw energy from our busy\, stimulated minds to help us find the open space of the present moment. \nIn the words of Rachel Naomi Remen – “The most basic and powerful way to connect to another person is to listen. Just listen. Perhaps the most important thing we ever give each other is our attention..A loving silence often has far more power to heal and to connect than the most well-intentioned words.” \nThis event is offered for free. We welcome donations you can make without hardship ($10-$20 ). This will help us cover ongoing rent for our Center\, fees to provide online services\, and supporting our teachers. Thank you.\nwww.diamondlightsac.org/donate\n–OR–\nVenmo “Diamond Light”\n–OR–\nwww.paypal.com/biz/fund?id=NMYP6MK36UBCS \nAbout Sunil Joseph: Sunil has been a student of Compassionate Communication since 2004. He graduated from BayNVC’s NVC Leadership Training in 2008. Sunil is also a certified Mindfulness Teacher. He facilitates healing and accountability programs for men incarcerated in California’s prisons. Website: myempathycoach.com.
URL:https://www.diamondlightsac.org/event/mindfulness-for-dark-times-with-sunil-joseph/2022-12-27/
LOCATION:Onlie via Zoom\, 2791 24th Street\, Sacramento\, CA\, 95818\, United States
ORGANIZER;CN="Diamond Light Tibetan Buddhist Group":MAILTO:diamondlight.sac@gmail.com
END:VEVENT
BEGIN:VEVENT
DTSTART;TZID=America/Los_Angeles:20221229T180000
DTEND;TZID=America/Los_Angeles:20221229T203000
DTSTAMP:20260425T192034
CREATED:20221222T203848Z
LAST-MODIFIED:20221222T203848Z
UID:10001261-1672336800-1672345800@www.diamondlightsac.org
SUMMARY:Tai Chi with Anand Parikshak
DESCRIPTION:Join Anand for an evening class on the Inner Alchemy of Tai Chi Chuan. During the class\, we will meditate\, practice qigong\, and explore the first movements of the Cinnabar Style Tai Chi Form. This form is modified from the Yang Family form (108) as taught by the late Master Wang and is oriented to the opening\, distilling\, and empowering of the subtle body. \nIn the words of the main teacher of the style:  “To the ancestors of Tao alchemy\, Tai Chi merges the vast vitality of Yin with the great persevering initiative of Yang. Out of this coupling\, the Neutral Space\, vessel\, womb or temporal-celestial cauldron emerges\, where our immortal fetus is born.” \nClass will be held on December 29th from 6 pm- 8:30 pm.  Cost $35\, no one turned away for lack of funds.\nAt Diamond Light Meditation Center: 2791 24th Street Room 14 (upstairs)\, Sacramento CA 95818\nIn person only \nThose who are attending the New Years retreat\, consider this an optional event to help open and relax your body for the following days of deep internal work.  \nYou can sign up for the class at the following link: https://calendly.com/d/g4j-488-dn3/inner-alchemy-of-tai-chi \nYou can still register for the New Year’s Retreat to attend virtually here: https://bookwhen.com/diamondlightsac/e/ev-s71r-20221230000000
URL:https://www.diamondlightsac.org/event/tai-chi-with-anand-parikshak/
LOCATION:Sierra 2 Center\, Room 14\, 2791 24th Street\, Sacramento\, CA\, 95818\, United States
GEO:38.5538259;-121.4831665
X-APPLE-STRUCTURED-LOCATION;VALUE=URI;X-ADDRESS=Sierra 2 Center Room 14 2791 24th Street Sacramento CA 95818 United States;X-APPLE-RADIUS=500;X-TITLE=2791 24th Street:geo:-121.4831665,38.5538259
END:VEVENT
BEGIN:VEVENT
DTSTART;TZID=America/Los_Angeles:20221230T083000
DTEND;TZID=America/Los_Angeles:20221230T180000
DTSTAMP:20260425T192034
CREATED:20221127T213154Z
LAST-MODIFIED:20221204T223956Z
UID:10001205-1672389000-1672423200@www.diamondlightsac.org
SUMMARY:The Light within the Dark: Turning towards Wholeness with Amie Diller
DESCRIPTION:The Light within the Dark: Turning towards Wholeness\nNew Years Retreat with Lama Amie Diller\nFriday 12/30/2022 – Sunday 1/1/2023\nPre-registration Required \nIn Tibetan Buddhism there is a deep appreciation for the messy\, dark\, even destructive sides of human experience. The wisdom of their myths and deities teach us that only through facing and embracing all of ourselves can we truly find our way back to wholeness\, freedom and genuine well-being. Jung called this “working with our Shadow”. In this New Year’s retreat\, even as the seasons turn from darkening to light\, through meditation\, journaling\, and movement\, we’ll explore: \nWhat is the Shadow?\nHow do we turn to meet it?\nWhy might it be important in the context of our spiritual path?\nWhat is the “Golden Shadow”?\n3-Day Retreat\, Please plan to attend all days\, no partial retreat available \nHybrid Retreat: \nLimited Capacity for In Person Retreat at Diamond Light Meditation Center in Sacramento\, CA\nRemote option available via Zoom. \nPre Registration Required: https://bookwhen.com/diamondlightsac/e/ev-s71r-20221230000000 \nSchedule\n• Friday 12/30 8:30am-6:00pm\n• Saturday 12/31 8:30am-6:00pm\n• Sunday 1/1 8:30am-5:30pm (we will end the retreat with a Fire Puja and New Year’s Celebration)\n• Optional Early Morning Meditation\n(Schedule subject to adjustments) \nRetreat Cost: $150\nScholarships available\, please email diamondlight.sac@gmail.com to request a scholarship. \nIn person attendees will be required to be vaccinated\, COVID tested (preferably PCR) within 48 hours to attend. Please take an at home test daily prior to arriving at the Center (including day 1).  \nTeachers:\n\nAmie Diller stumbled upon Tassajara Zen Mountain Center in 1979\,  dropped out of college and embarked on the life-long study and practice of Buddha Dharma in both the Zen and Indo-Tibetan traditions. In 2010 she was requested to start the Diamond Light Tibetan Buddhist Center in Sacramento & in 2019 Amie received Dharma Transmission from Sensei Sokaku Kathie Fischer.  \nAmie has a deep interest in recognizing the often unacknowledged\, marginalized parts of ourselves and our culture – and learning how to skillfully invite them into our practice. As a certified nurse-midwife\, mother\, hospital chaplain\, prison\nvolunteer and “Cultivating Emotional Balance” teacher\, she enjoys encouraging students in meditation retreats\, and in taking our meditation off the cushion into the world. \n \nAnand Parikshak  is a meditation teacher with a focus on the teachings of Taoism and the cultivation of emotional wellbeing. As an Indian-American\, Anand was first taught meditation and posture from his father- the son of a yogic acrobat and Vedic educator. During his teens\, Anandtook a personal interest in meditation inspired by a connection to Nature and his main mentor\, Dr. B Bayard\, a Taoist practitioner and physician.  Additionally\, Anand has studied meditation\, qigong\, and Tai Chi Chuan with many kind Buddhist and Taoist teachers. \nWith respect to the teachings given to him\, Anand now leads and developments meditation and mindfulness based programs for individuals from all walks of life. He has been honored to teach all around the world including with prestigious institutions such as UCSF’s Osher Center\, American University’s School of International Service\, and the United States Department of State. \n \nMojo Tchudi is a clinical mental heath counselor (in training) and holistic health coach with an emphasis on psychedelic integration\, religious experiences\, and philosophy as a way of life. He brings deep presence\, non-judgmental compassionate care\, and insightful reflection to his clients’ process of healing and self discovery. With almost two decades of experience with traditional healing\, esoteric spirituality\, and multiple meditation techniques\, Mojo brings a diverse range of experiences to share with clients and students.
URL:https://www.diamondlightsac.org/event/the-light-within-the-dark-turning-towards-wholeness-with-amie-diller/2022-12-30/
LOCATION:Sierra 2 Center\, Room 14\, 2791 24th Street\, Sacramento\, CA\, 95818\, United States
ORGANIZER;CN="Diamond Light Tibetan Buddhist Group":MAILTO:diamondlight.sac@gmail.com
GEO:38.5538259;-121.4831665
X-APPLE-STRUCTURED-LOCATION;VALUE=URI;X-ADDRESS=Sierra 2 Center Room 14 2791 24th Street Sacramento CA 95818 United States;X-APPLE-RADIUS=500;X-TITLE=2791 24th Street:geo:-121.4831665,38.5538259
END:VEVENT
BEGIN:VEVENT
DTSTART;TZID=America/Los_Angeles:20221231T083000
DTEND;TZID=America/Los_Angeles:20221231T173000
DTSTAMP:20260425T192034
CREATED:20221127T213154Z
LAST-MODIFIED:20221204T223956Z
UID:10001206-1672475400-1672507800@www.diamondlightsac.org
SUMMARY:The Light within the Dark: Turning towards Wholeness with Amie Diller
DESCRIPTION:The Light within the Dark: Turning towards Wholeness\nNew Years Retreat with Lama Amie Diller\nFriday 12/30/2022 – Sunday 1/1/2023\nPre-registration Required \nIn Tibetan Buddhism there is a deep appreciation for the messy\, dark\, even destructive sides of human experience. The wisdom of their myths and deities teach us that only through facing and embracing all of ourselves can we truly find our way back to wholeness\, freedom and genuine well-being. Jung called this “working with our Shadow”. In this New Year’s retreat\, even as the seasons turn from darkening to light\, through meditation\, journaling\, and movement\, we’ll explore: \nWhat is the Shadow?\nHow do we turn to meet it?\nWhy might it be important in the context of our spiritual path?\nWhat is the “Golden Shadow”?\n3-Day Retreat\, Please plan to attend all days\, no partial retreat available \nHybrid Retreat: \nLimited Capacity for In Person Retreat at Diamond Light Meditation Center in Sacramento\, CA\nRemote option available via Zoom. \nPre Registration Required: https://bookwhen.com/diamondlightsac/e/ev-s71r-20221230000000 \nSchedule\n• Friday 12/30 8:30am-6:00pm\n• Saturday 12/31 8:30am-6:00pm\n• Sunday 1/1 8:30am-5:30pm (we will end the retreat with a Fire Puja and New Year’s Celebration)\n• Optional Early Morning Meditation\n(Schedule subject to adjustments) \nRetreat Cost: $150\nScholarships available\, please email diamondlight.sac@gmail.com to request a scholarship. \nIn person attendees will be required to be vaccinated\, COVID tested (preferably PCR) within 48 hours to attend. Please take an at home test daily prior to arriving at the Center (including day 1).  \nTeachers:\n\nAmie Diller stumbled upon Tassajara Zen Mountain Center in 1979\,  dropped out of college and embarked on the life-long study and practice of Buddha Dharma in both the Zen and Indo-Tibetan traditions. In 2010 she was requested to start the Diamond Light Tibetan Buddhist Center in Sacramento & in 2019 Amie received Dharma Transmission from Sensei Sokaku Kathie Fischer.  \nAmie has a deep interest in recognizing the often unacknowledged\, marginalized parts of ourselves and our culture – and learning how to skillfully invite them into our practice. As a certified nurse-midwife\, mother\, hospital chaplain\, prison\nvolunteer and “Cultivating Emotional Balance” teacher\, she enjoys encouraging students in meditation retreats\, and in taking our meditation off the cushion into the world. \n \nAnand Parikshak  is a meditation teacher with a focus on the teachings of Taoism and the cultivation of emotional wellbeing. As an Indian-American\, Anand was first taught meditation and posture from his father- the son of a yogic acrobat and Vedic educator. During his teens\, Anandtook a personal interest in meditation inspired by a connection to Nature and his main mentor\, Dr. B Bayard\, a Taoist practitioner and physician.  Additionally\, Anand has studied meditation\, qigong\, and Tai Chi Chuan with many kind Buddhist and Taoist teachers. \nWith respect to the teachings given to him\, Anand now leads and developments meditation and mindfulness based programs for individuals from all walks of life. He has been honored to teach all around the world including with prestigious institutions such as UCSF’s Osher Center\, American University’s School of International Service\, and the United States Department of State. \n \nMojo Tchudi is a clinical mental heath counselor (in training) and holistic health coach with an emphasis on psychedelic integration\, religious experiences\, and philosophy as a way of life. He brings deep presence\, non-judgmental compassionate care\, and insightful reflection to his clients’ process of healing and self discovery. With almost two decades of experience with traditional healing\, esoteric spirituality\, and multiple meditation techniques\, Mojo brings a diverse range of experiences to share with clients and students.
URL:https://www.diamondlightsac.org/event/the-light-within-the-dark-turning-towards-wholeness-with-amie-diller/2022-12-31/
LOCATION:Sierra 2 Center\, Room 14\, 2791 24th Street\, Sacramento\, CA\, 95818\, United States
ORGANIZER;CN="Diamond Light Tibetan Buddhist Group":MAILTO:diamondlight.sac@gmail.com
GEO:38.5538259;-121.4831665
X-APPLE-STRUCTURED-LOCATION;VALUE=URI;X-ADDRESS=Sierra 2 Center Room 14 2791 24th Street Sacramento CA 95818 United States;X-APPLE-RADIUS=500;X-TITLE=2791 24th Street:geo:-121.4831665,38.5538259
END:VEVENT
END:VCALENDAR