BEGIN:VCALENDAR
VERSION:2.0
PRODID:-//Diamond Light Tibetan Buddhist Group - ECPv6.15.13//NONSGML v1.0//EN
CALSCALE:GREGORIAN
METHOD:PUBLISH
X-WR-CALNAME:Diamond Light Tibetan Buddhist Group
X-ORIGINAL-URL:https://www.diamondlightsac.org
X-WR-CALDESC:Events for Diamond Light Tibetan Buddhist Group
REFRESH-INTERVAL;VALUE=DURATION:PT1H
X-Robots-Tag:noindex
X-PUBLISHED-TTL:PT1H
BEGIN:VTIMEZONE
TZID:America/Los_Angeles
BEGIN:DAYLIGHT
TZOFFSETFROM:-0800
TZOFFSETTO:-0700
TZNAME:PDT
DTSTART:20220313T100000
END:DAYLIGHT
BEGIN:STANDARD
TZOFFSETFROM:-0700
TZOFFSETTO:-0800
TZNAME:PST
DTSTART:20221106T090000
END:STANDARD
BEGIN:DAYLIGHT
TZOFFSETFROM:-0800
TZOFFSETTO:-0700
TZNAME:PDT
DTSTART:20230312T100000
END:DAYLIGHT
BEGIN:STANDARD
TZOFFSETFROM:-0700
TZOFFSETTO:-0800
TZNAME:PST
DTSTART:20231105T090000
END:STANDARD
BEGIN:DAYLIGHT
TZOFFSETFROM:-0800
TZOFFSETTO:-0700
TZNAME:PDT
DTSTART:20240310T100000
END:DAYLIGHT
BEGIN:STANDARD
TZOFFSETFROM:-0700
TZOFFSETTO:-0800
TZNAME:PST
DTSTART:20241103T090000
END:STANDARD
END:VTIMEZONE
BEGIN:VEVENT
DTSTART;TZID=America/Los_Angeles:20230320T183000
DTEND;TZID=America/Los_Angeles:20230320T193000
DTSTAMP:20260425T155828
CREATED:20221204T224822Z
LAST-MODIFIED:20230609T203640Z
UID:10001222-1679337000-1679340600@www.diamondlightsac.org
SUMMARY:Online: Tibetan Buddhist Meditation
DESCRIPTION:Starting June 5\, Monday Meditation is back in person! Join a community of meditators to learn meditation techniques and practices. Led. by long time meditator and Buddhist practitioner David Drabble\, join a supportive group to grow your meditation practice.  \nEvery Monday from 6:30pm-7:30pm\nIn person at Diamond Light Meditation Center\n2791 24th Street Room 14 (upstairs)\nSacramento\, CA 95818\nparking lot in back off of 4th Ave\, ADA accessible \nAlso offered on Zoom: \nClick the link to join: https://us04web.zoom.us/j/2247358115\nMeeting ID is: 224 735 8115\nPasscode: 1234 \nDonation Based we suggest $10-$20 per class. No one turned away for lack of funds.\nWays to Donate:\nWebsite: https://www.diamondlightsac.org/donate/\nPayPal: https://www.paypal.com/paypalme/diamondlightsac\nVenmo: https://account.venmo.com/u/diamondlight
URL:https://www.diamondlightsac.org/event/online-tibetan-buddhist-meditation/2023-03-20/
LOCATION:Onlie via Zoom\, 2791 24th Street\, Sacramento\, CA\, 95818\, United States
ORGANIZER;CN="Diamond Light Tibetan Buddhist Group":MAILTO:diamondlight.sac@gmail.com
END:VEVENT
END:VCALENDAR