BEGIN:VCALENDAR
VERSION:2.0
PRODID:-//Diamond Light Tibetan Buddhist Group - ECPv6.15.13//NONSGML v1.0//EN
CALSCALE:GREGORIAN
METHOD:PUBLISH
X-WR-CALNAME:Diamond Light Tibetan Buddhist Group
X-ORIGINAL-URL:https://www.diamondlightsac.org
X-WR-CALDESC:Events for Diamond Light Tibetan Buddhist Group
REFRESH-INTERVAL;VALUE=DURATION:PT1H
X-Robots-Tag:noindex
X-PUBLISHED-TTL:PT1H
BEGIN:VTIMEZONE
TZID:America/Los_Angeles
BEGIN:DAYLIGHT
TZOFFSETFROM:-0800
TZOFFSETTO:-0700
TZNAME:PDT
DTSTART:20220313T100000
END:DAYLIGHT
BEGIN:STANDARD
TZOFFSETFROM:-0700
TZOFFSETTO:-0800
TZNAME:PST
DTSTART:20221106T090000
END:STANDARD
BEGIN:DAYLIGHT
TZOFFSETFROM:-0800
TZOFFSETTO:-0700
TZNAME:PDT
DTSTART:20230312T100000
END:DAYLIGHT
BEGIN:STANDARD
TZOFFSETFROM:-0700
TZOFFSETTO:-0800
TZNAME:PST
DTSTART:20231105T090000
END:STANDARD
BEGIN:DAYLIGHT
TZOFFSETFROM:-0800
TZOFFSETTO:-0700
TZNAME:PDT
DTSTART:20240310T100000
END:DAYLIGHT
BEGIN:STANDARD
TZOFFSETFROM:-0700
TZOFFSETTO:-0800
TZNAME:PST
DTSTART:20241103T090000
END:STANDARD
END:VTIMEZONE
BEGIN:VEVENT
DTSTART;TZID=America/Los_Angeles:20230508T183000
DTEND;TZID=America/Los_Angeles:20230508T193000
DTSTAMP:20260425T144333
CREATED:20221204T224822Z
LAST-MODIFIED:20230609T203640Z
UID:10001229-1683570600-1683574200@www.diamondlightsac.org
SUMMARY:Online: Tibetan Buddhist Meditation
DESCRIPTION:Starting June 5\, Monday Meditation is back in person! Join a community of meditators to learn meditation techniques and practices. Led. by long time meditator and Buddhist practitioner David Drabble\, join a supportive group to grow your meditation practice.  \nEvery Monday from 6:30pm-7:30pm\nIn person at Diamond Light Meditation Center\n2791 24th Street Room 14 (upstairs)\nSacramento\, CA 95818\nparking lot in back off of 4th Ave\, ADA accessible \nAlso offered on Zoom: \nClick the link to join: https://us04web.zoom.us/j/2247358115\nMeeting ID is: 224 735 8115\nPasscode: 1234 \nDonation Based we suggest $10-$20 per class. No one turned away for lack of funds.\nWays to Donate:\nWebsite: https://www.diamondlightsac.org/donate/\nPayPal: https://www.paypal.com/paypalme/diamondlightsac\nVenmo: https://account.venmo.com/u/diamondlight
URL:https://www.diamondlightsac.org/event/online-tibetan-buddhist-meditation/2023-05-08/
LOCATION:Onlie via Zoom\, 2791 24th Street\, Sacramento\, CA\, 95818\, United States
ORGANIZER;CN="Diamond Light Tibetan Buddhist Group":MAILTO:diamondlight.sac@gmail.com
END:VEVENT
BEGIN:VEVENT
DTSTART;TZID=America/Los_Angeles:20230509T183000
DTEND;TZID=America/Los_Angeles:20230509T203000
DTSTAMP:20260425T144333
CREATED:20230330T004516Z
LAST-MODIFIED:20230410T184537Z
UID:10001291-1683657000-1683664200@www.diamondlightsac.org
SUMMARY:Living the Bodhisattva Vows
DESCRIPTION:Learn how to breathe life into the practice of the Bodhisattva \nJoin Sunil Joseph and Heather Breault for a compassionate reflection into our relationship with the Bodhisattva vows\, including both the challenges and the beauty of the vows. We will look at how to bring the practice alive in our lives\, making it relevant to us through our personal experience. \nAbout Sunil Joseph: I am a certified GRIP facilitator teaching a restorative justice-based healing and accountability program in California’s prison system. In 2021\, I successfully completed the 2-year Mindfulness Meditation Teacher Certification Program offered by Jack Kornfield and Tara Brach to become a certified Mindfulness teacher. As a graduate from BayNVC’s 1-year NVC Leadership Program in 2008\, I have been teaching NVC to varied groups\, including those incarcerated at San Quentin prison. I feel grateful for the amazing teachers and teachings I have personally benefited from. I welcome opportunities to support others in their personal journey to fulfillment and wellbeing. I was born in India and now live in the San Francisco Bay Area. For more information about Sunil: https://myempathycoach.com/ \nAbout Heather Breault: I started practicing yoga in 2001\, which lead me to find Buddhism\, with my first class taught by Lama Marut in 2008. I have studied Buddhism in-depth since 2008\, attended many Buddhist retreats\, and worked on deepening my personal practice over the years. I am grateful to many amazing teachers\, my closest teacher being Amie Diller. \nTuesdays in May 2023\n6:30pm-8:30pm PDT\nOnline ; Donation-based\nZoom Meeting ID: 224-735-8115\nPasscode: 1234 \nhttps://us04web.zoom.us/j/2247358115 \nwww.diamondlightsac.org/donate or “Diamond Light” on Venmo\nSuggested donation: $10-:$20 to cover expenses\, which include ongoing rent for our Center\, fees to provide online services and supporting our teachers.\nNo one turned away due to lack of funds.
URL:https://www.diamondlightsac.org/event/living-the-bodhisattva-vows/2023-05-09/
LOCATION:Sierra 2 Center\, Room 14\, 2791 24th Street\, Sacramento\, CA\, 95818\, United States
CATEGORIES:Weekly
ORGANIZER;CN="Diamond Light Tibetan Buddhist Group":MAILTO:diamondlight.sac@gmail.com
GEO:38.5538259;-121.4831665
X-APPLE-STRUCTURED-LOCATION;VALUE=URI;X-ADDRESS=Sierra 2 Center Room 14 2791 24th Street Sacramento CA 95818 United States;X-APPLE-RADIUS=500;X-TITLE=2791 24th Street:geo:-121.4831665,38.5538259
END:VEVENT
END:VCALENDAR