BEGIN:VCALENDAR
VERSION:2.0
PRODID:-//Diamond Light Tibetan Buddhist Group - ECPv6.15.13//NONSGML v1.0//EN
CALSCALE:GREGORIAN
METHOD:PUBLISH
X-WR-CALNAME:Diamond Light Tibetan Buddhist Group
X-ORIGINAL-URL:https://www.diamondlightsac.org
X-WR-CALDESC:Events for Diamond Light Tibetan Buddhist Group
REFRESH-INTERVAL;VALUE=DURATION:PT1H
X-Robots-Tag:noindex
X-PUBLISHED-TTL:PT1H
BEGIN:VTIMEZONE
TZID:America/Los_Angeles
BEGIN:DAYLIGHT
TZOFFSETFROM:-0800
TZOFFSETTO:-0700
TZNAME:PDT
DTSTART:20220313T100000
END:DAYLIGHT
BEGIN:STANDARD
TZOFFSETFROM:-0700
TZOFFSETTO:-0800
TZNAME:PST
DTSTART:20221106T090000
END:STANDARD
BEGIN:DAYLIGHT
TZOFFSETFROM:-0800
TZOFFSETTO:-0700
TZNAME:PDT
DTSTART:20230312T100000
END:DAYLIGHT
BEGIN:STANDARD
TZOFFSETFROM:-0700
TZOFFSETTO:-0800
TZNAME:PST
DTSTART:20231105T090000
END:STANDARD
BEGIN:DAYLIGHT
TZOFFSETFROM:-0800
TZOFFSETTO:-0700
TZNAME:PDT
DTSTART:20240310T100000
END:DAYLIGHT
BEGIN:STANDARD
TZOFFSETFROM:-0700
TZOFFSETTO:-0800
TZNAME:PST
DTSTART:20241103T090000
END:STANDARD
END:VTIMEZONE
BEGIN:VEVENT
DTSTART;TZID=America/Los_Angeles:20230706T183000
DTEND;TZID=America/Los_Angeles:20230706T203000
DTSTAMP:20260425T144340
CREATED:20230312T041445Z
LAST-MODIFIED:20230501T220718Z
UID:10001297-1688668200-1688675400@www.diamondlightsac.org
SUMMARY:Cultivating Emotional Balance - 6 week online course
DESCRIPTION:Diamond Light Buddhist Group and CEB presents \nCultivating Emotional Balance\nSix week online course \nWith Anand Parikshak and Lani Potts \nThursday Evenings May 25-July 6\n6:30-8:30 PM PDT\nNote: No class June 29 \nCost: $195-$235\nPre-registration required\, Space is limited Register now!\nDiamondlightsac.org \nJoin us in learning and integrating the basic tools of Cultivating Emotional Balance\, a course\, inspired by His Holiness the Dalai Lama. Using insights and methods drawn from both Western psychology and Buddhist contemplative practices. we invite you to discover greater happiness and well-being. Designed using evidence-based\, practical strategies\, we will develop attention\, restore motivation\, identify the root causes of enduring happiness\, explore anger\, sadness\, and joy\, investigate different pathways of empathy\, practice self-compassion\, and build connections through vulnerability and trust. \n*Note: Completion of this class fulfills the CEB course prerequisite for CEB Teacher Training. (CEBTT)  \nFor more information and to register\, click here
URL:https://www.diamondlightsac.org/event/cultivating-emotional-balance-6-week-online-course/2023-07-06/
LOCATION:Onlie via Zoom\, 2791 24th Street\, Sacramento\, CA\, 95818\, United States
END:VEVENT
END:VCALENDAR