BEGIN:VCALENDAR
VERSION:2.0
PRODID:-//Diamond Light Tibetan Buddhist Group - ECPv6.15.13//NONSGML v1.0//EN
CALSCALE:GREGORIAN
METHOD:PUBLISH
X-WR-CALNAME:Diamond Light Tibetan Buddhist Group
X-ORIGINAL-URL:https://www.diamondlightsac.org
X-WR-CALDESC:Events for Diamond Light Tibetan Buddhist Group
REFRESH-INTERVAL;VALUE=DURATION:PT1H
X-Robots-Tag:noindex
X-PUBLISHED-TTL:PT1H
BEGIN:VTIMEZONE
TZID:America/Los_Angeles
BEGIN:DAYLIGHT
TZOFFSETFROM:-0800
TZOFFSETTO:-0700
TZNAME:PDT
DTSTART:20220313T100000
END:DAYLIGHT
BEGIN:STANDARD
TZOFFSETFROM:-0700
TZOFFSETTO:-0800
TZNAME:PST
DTSTART:20221106T090000
END:STANDARD
BEGIN:DAYLIGHT
TZOFFSETFROM:-0800
TZOFFSETTO:-0700
TZNAME:PDT
DTSTART:20230312T100000
END:DAYLIGHT
BEGIN:STANDARD
TZOFFSETFROM:-0700
TZOFFSETTO:-0800
TZNAME:PST
DTSTART:20231105T090000
END:STANDARD
BEGIN:DAYLIGHT
TZOFFSETFROM:-0800
TZOFFSETTO:-0700
TZNAME:PDT
DTSTART:20240310T100000
END:DAYLIGHT
BEGIN:STANDARD
TZOFFSETFROM:-0700
TZOFFSETTO:-0800
TZNAME:PST
DTSTART:20241103T090000
END:STANDARD
END:VTIMEZONE
BEGIN:VEVENT
DTSTART;TZID=America/Los_Angeles:20231120T183000
DTEND;TZID=America/Los_Angeles:20231120T193000
DTSTAMP:20260425T041120
CREATED:20231026T192324Z
LAST-MODIFIED:20231026T192324Z
UID:10001385-1700505000-1700508600@www.diamondlightsac.org
SUMMARY:Online: Monday Meditation
DESCRIPTION:Join a community of meditators to learn meditation techniques and practices. Led. by long time meditator and Buddhist practitioner David Drabble\, join a supportive group to grow your meditation practice.  \nEvery Monday from 6:30pm-7:30pm PT thru December 18\, 2023 \nOffered on Zoom: \nClick the link to join: https://us04web.zoom.us/j/2247358115\nMeeting ID is: 224 735 8115\nPasscode: 1234 \nDonation Based we suggest $10-$20 per class. No one turned away for lack of funds.\nWays to Donate:\nWebsite: https://www.diamondlightsac.org/donate/\nPayPal: https://www.paypal.com/paypalme/diamondlightsac\nVenmo: https://account.venmo.com/u/diamondlight
URL:https://www.diamondlightsac.org/event/online-monday-meditation/2023-11-20/
LOCATION:Diamond Light Meditation Center\, 2791 24th Street\, Room 14 (upstairs)\, Sacramento\, CA\, 95818
ORGANIZER;CN="Diamond Light Tibetan Buddhist Group":MAILTO:diamondlight.sac@gmail.com
GEO:38.5603056;-121.4970294
X-APPLE-STRUCTURED-LOCATION;VALUE=URI;X-ADDRESS=Diamond Light Meditation Center 2791 24th Street Room 14 (upstairs) Sacramento CA 95818;X-APPLE-RADIUS=500;X-TITLE=2791 24th Street\, Room 14 (upstairs):geo:-121.4970294,38.5603056
END:VEVENT
BEGIN:VEVENT
DTSTART;TZID=America/Los_Angeles:20231121T183000
DTEND;TZID=America/Los_Angeles:20231121T203000
DTSTAMP:20260425T041120
CREATED:20231024T231104Z
LAST-MODIFIED:20231024T231104Z
UID:10001363-1700591400-1700598600@www.diamondlightsac.org
SUMMARY:Dharma Essentials: Understanding Karma with Jay Nair
DESCRIPTION:The term ‘karma’ is used a lot in our society\, but how does karma really work? Join Jay Nair as he continues the Dharma Essentials courses with an explanation of karma. \nTuesdays\, November 7th – 28th\n6:30pm-8:30pm \nHybrid options for attending:\nYou can attend in person: 2791 24th Street\, Room 14 Sacramento CA 95818 (parking lot off 4th Ave\, the room is upstairs). \nZoom Meeting ID: 224-735-8115\nPasscode: 1234\nZoom Link: https://us04web.zoom.us/j/2247358115 \nwww.diamondlightsac.org/donate or “Diamond Light” on Venmo. Suggested donation: $10-$20 to cover expenses\, which include ongoing rent for our Center\, fees to provide online services and supporting our teachers. No one turned away due to lack of funds. \n\nAbout the Teacher: Hailing from a traditional South Indian Yogic family\, Jay Nair grew up by the banks of river Periyar\, has been practicing some type of yoga and socially engaged spirituality from early on in life and studying modern Mindfulness since 2010. He also received training in Tibetan and Vipassana practices\, and participated in many long term yoga meditation retreats. Jay Nair is trained in Indian Music and started performing solo concerts at the early age of ten. Since then Jay has been  performing and recording Indian and world fusion music. IT Engineer by profession\, Jay is a blend of Science\, Art and Spirituality and believes Technology and Consciousness transforms each other.
URL:https://www.diamondlightsac.org/event/dharma-essentials-understanding-karma-with-jay-nair/2023-11-21/
LOCATION:Sierra 2 Center\, Room 14\, 2791 24th Street\, Sacramento\, CA\, 95818\, United States
CATEGORIES:Class Series
GEO:38.5538259;-121.4831665
X-APPLE-STRUCTURED-LOCATION;VALUE=URI;X-ADDRESS=Sierra 2 Center Room 14 2791 24th Street Sacramento CA 95818 United States;X-APPLE-RADIUS=500;X-TITLE=2791 24th Street:geo:-121.4831665,38.5538259
END:VEVENT
END:VCALENDAR