BEGIN:VCALENDAR
VERSION:2.0
PRODID:-//Diamond Light Tibetan Buddhist Group - ECPv6.15.13//NONSGML v1.0//EN
CALSCALE:GREGORIAN
METHOD:PUBLISH
X-ORIGINAL-URL:https://www.diamondlightsac.org
X-WR-CALDESC:Events for Diamond Light Tibetan Buddhist Group
REFRESH-INTERVAL;VALUE=DURATION:PT1H
X-Robots-Tag:noindex
X-PUBLISHED-TTL:PT1H
BEGIN:VTIMEZONE
TZID:America/Los_Angeles
BEGIN:DAYLIGHT
TZOFFSETFROM:-0800
TZOFFSETTO:-0700
TZNAME:PDT
DTSTART:20220313T100000
END:DAYLIGHT
BEGIN:STANDARD
TZOFFSETFROM:-0700
TZOFFSETTO:-0800
TZNAME:PST
DTSTART:20221106T090000
END:STANDARD
BEGIN:DAYLIGHT
TZOFFSETFROM:-0800
TZOFFSETTO:-0700
TZNAME:PDT
DTSTART:20230312T100000
END:DAYLIGHT
BEGIN:STANDARD
TZOFFSETFROM:-0700
TZOFFSETTO:-0800
TZNAME:PST
DTSTART:20231105T090000
END:STANDARD
BEGIN:DAYLIGHT
TZOFFSETFROM:-0800
TZOFFSETTO:-0700
TZNAME:PDT
DTSTART:20240310T100000
END:DAYLIGHT
BEGIN:STANDARD
TZOFFSETFROM:-0700
TZOFFSETTO:-0800
TZNAME:PST
DTSTART:20241103T090000
END:STANDARD
END:VTIMEZONE
BEGIN:VEVENT
DTSTART;TZID=America/Los_Angeles:20231211T183000
DTEND;TZID=America/Los_Angeles:20231211T193000
DTSTAMP:20260425T041008
CREATED:20231026T192324Z
LAST-MODIFIED:20231026T192324Z
UID:10001388-1702319400-1702323000@www.diamondlightsac.org
SUMMARY:Online: Monday Meditation
DESCRIPTION:Join a community of meditators to learn meditation techniques and practices. Led. by long time meditator and Buddhist practitioner David Drabble\, join a supportive group to grow your meditation practice.  \nEvery Monday from 6:30pm-7:30pm PT thru December 18\, 2023 \nOffered on Zoom: \nClick the link to join: https://us04web.zoom.us/j/2247358115\nMeeting ID is: 224 735 8115\nPasscode: 1234 \nDonation Based we suggest $10-$20 per class. No one turned away for lack of funds.\nWays to Donate:\nWebsite: https://www.diamondlightsac.org/donate/\nPayPal: https://www.paypal.com/paypalme/diamondlightsac\nVenmo: https://account.venmo.com/u/diamondlight
URL:https://www.diamondlightsac.org/event/online-monday-meditation/2023-12-11/
LOCATION:Diamond Light Meditation Center\, 2791 24th Street\, Room 14 (upstairs)\, Sacramento\, CA\, 95818
ORGANIZER;CN="Diamond Light Tibetan Buddhist Group":MAILTO:diamondlight.sac@gmail.com
GEO:38.5603056;-121.4970294
X-APPLE-STRUCTURED-LOCATION;VALUE=URI;X-ADDRESS=Diamond Light Meditation Center 2791 24th Street Room 14 (upstairs) Sacramento CA 95818;X-APPLE-RADIUS=500;X-TITLE=2791 24th Street\, Room 14 (upstairs):geo:-121.4970294,38.5603056
END:VEVENT
END:VCALENDAR