BEGIN:VCALENDAR
VERSION:2.0
PRODID:-//Diamond Light Tibetan Buddhist Group - ECPv6.15.13//NONSGML v1.0//EN
CALSCALE:GREGORIAN
METHOD:PUBLISH
X-WR-CALNAME:Diamond Light Tibetan Buddhist Group
X-ORIGINAL-URL:https://www.diamondlightsac.org
X-WR-CALDESC:Events for Diamond Light Tibetan Buddhist Group
REFRESH-INTERVAL;VALUE=DURATION:PT1H
X-Robots-Tag:noindex
X-PUBLISHED-TTL:PT1H
BEGIN:VTIMEZONE
TZID:America/Los_Angeles
BEGIN:DAYLIGHT
TZOFFSETFROM:-0800
TZOFFSETTO:-0700
TZNAME:PDT
DTSTART:20230312T100000
END:DAYLIGHT
BEGIN:STANDARD
TZOFFSETFROM:-0700
TZOFFSETTO:-0800
TZNAME:PST
DTSTART:20231105T090000
END:STANDARD
BEGIN:DAYLIGHT
TZOFFSETFROM:-0800
TZOFFSETTO:-0700
TZNAME:PDT
DTSTART:20240310T100000
END:DAYLIGHT
BEGIN:STANDARD
TZOFFSETFROM:-0700
TZOFFSETTO:-0800
TZNAME:PST
DTSTART:20241103T090000
END:STANDARD
BEGIN:DAYLIGHT
TZOFFSETFROM:-0800
TZOFFSETTO:-0700
TZNAME:PDT
DTSTART:20250309T100000
END:DAYLIGHT
BEGIN:STANDARD
TZOFFSETFROM:-0700
TZOFFSETTO:-0800
TZNAME:PST
DTSTART:20251102T090000
END:STANDARD
END:VTIMEZONE
BEGIN:VEVENT
DTSTART;TZID=America/Los_Angeles:20240205T183000
DTEND;TZID=America/Los_Angeles:20240205T193000
DTSTAMP:20260425T041010
CREATED:20231207T202932Z
LAST-MODIFIED:20231208T051943Z
UID:10001913-1707157800-1707161400@www.diamondlightsac.org
SUMMARY:Online: Monday Meditation
DESCRIPTION:Join a community of meditators to learn meditation techniques and practices. Led by long time meditator and Buddhist practitioner David Drabble\, join a supportive group to grow your meditation practice.  \nEvery Monday from 6:30pm-7:30pm PT\, January 22 thru December 16\, 2024 \nOffered on Zoom: \nClick the link to join: https://us04web.zoom.us/j/2247358115\nMeeting ID is: 224 735 8115\nPasscode: 1234 \nDonation Based. We suggest $10-$20 per class. No one will be turned away for lack of funds.\nWays to Donate:\nWebsite: www.diamondlightsac.org/donate/\nPayPal: Diamond Light on PayPal\nVenmo: Diamond Light on Venmo
URL:https://www.diamondlightsac.org/event/online-monday-meditation-5/2024-02-05/
LOCATION:Diamond Light Meditation Center\, 2791 24th Street\, Room 14 (upstairs)\, Sacramento\, CA\, 95818
CATEGORIES:Meditation Class
ORGANIZER;CN="Diamond Light Tibetan Buddhist Group":MAILTO:diamondlight.sac@gmail.com
GEO:38.5603056;-121.4970294
X-APPLE-STRUCTURED-LOCATION;VALUE=URI;X-ADDRESS=Diamond Light Meditation Center 2791 24th Street Room 14 (upstairs) Sacramento CA 95818;X-APPLE-RADIUS=500;X-TITLE=2791 24th Street\, Room 14 (upstairs):geo:-121.4970294,38.5603056
END:VEVENT
BEGIN:VEVENT
DTSTART;TZID=America/Los_Angeles:20240206T183000
DTEND;TZID=America/Los_Angeles:20240206T203000
DTSTAMP:20260425T041010
CREATED:20240121T191850Z
LAST-MODIFIED:20240123T023856Z
UID:10002078-1707244200-1707251400@www.diamondlightsac.org
SUMMARY:Exploring Emptiness
DESCRIPTION:Exploration of Emptiness\nTuesdays February 6-27\, 2024\n6:30pm-8:30pm PDT \nJoin Heather Breault and Pamela Rasada for an exploration into emptiness and gain insight into the ultimate nature of our reality. We will look at how to bring this abstract idea into our everyday lives\, and how to absorb the idea of the infinite potential we all have. \nThis is a virtual event that will be held online via zoom.\nZoom Meeting ID: 224-735-8115\nPasscode: 1234\nZoom Link: https://us02web.zoom.us/j/2247358115\nwww.diamondlightsac.org/donate or “Diamond Light” on Venmo. \nSuggested donation: $10-$20 to cover expenses\, which include ongoing rent for our Center\, fees to provide online services and supporting our teachers. No one turned away due to lack of funds. \nAbout Heather Breault: I started practicing yoga in 2001\, which lead me to find Buddhism\, with my first class taught by Lama Marut in 2008. I have studied Buddhism in-depth since 2008\, attended many Buddhist retreats\, and worked on deepening my personal practice over the years. I am grateful to many amazing teachers\, my closest teacher being Amie Diller. \nAbout Pamela Rasada: Pamela is a student of the lineage of His Holiness the Dalai Lama\, in the Tibetan Gelugpa tradition\, in June of 2011. Through her primary teacher\, Amie Diller\, Pamela has had the opportunity to meet and study with many experienced and practiced teachers. In February 2018\, after seven years of classwork and study\, Pamela completed an eighteen course Gelugpa intensive. Pamela continues to explore additional opportunities to learn and is grateful for any opportunity to share what she has learned with others.
URL:https://www.diamondlightsac.org/event/exploring-emptiness/2024-02-06/
LOCATION:Zoom\, 2791 24th Street\, Sacramento\, CA\, 95818\, United States
END:VEVENT
END:VCALENDAR