BEGIN:VCALENDAR
VERSION:2.0
PRODID:-//Diamond Light Tibetan Buddhist Group - ECPv6.15.13//NONSGML v1.0//EN
CALSCALE:GREGORIAN
METHOD:PUBLISH
X-WR-CALNAME:Diamond Light Tibetan Buddhist Group
X-ORIGINAL-URL:https://www.diamondlightsac.org
X-WR-CALDESC:Events for Diamond Light Tibetan Buddhist Group
REFRESH-INTERVAL;VALUE=DURATION:PT1H
X-Robots-Tag:noindex
X-PUBLISHED-TTL:PT1H
BEGIN:VTIMEZONE
TZID:America/Los_Angeles
BEGIN:DAYLIGHT
TZOFFSETFROM:-0800
TZOFFSETTO:-0700
TZNAME:PDT
DTSTART:20250309T100000
END:DAYLIGHT
BEGIN:STANDARD
TZOFFSETFROM:-0700
TZOFFSETTO:-0800
TZNAME:PST
DTSTART:20251102T090000
END:STANDARD
BEGIN:DAYLIGHT
TZOFFSETFROM:-0800
TZOFFSETTO:-0700
TZNAME:PDT
DTSTART:20260308T100000
END:DAYLIGHT
BEGIN:STANDARD
TZOFFSETFROM:-0700
TZOFFSETTO:-0800
TZNAME:PST
DTSTART:20261101T090000
END:STANDARD
BEGIN:DAYLIGHT
TZOFFSETFROM:-0800
TZOFFSETTO:-0700
TZNAME:PDT
DTSTART:20270314T100000
END:DAYLIGHT
BEGIN:STANDARD
TZOFFSETFROM:-0700
TZOFFSETTO:-0800
TZNAME:PST
DTSTART:20271107T090000
END:STANDARD
END:VTIMEZONE
BEGIN:VEVENT
DTSTART;TZID=America/Los_Angeles:20260819T183000
DTEND;TZID=America/Los_Angeles:20260819T193000
DTSTAMP:20260423T160604
CREATED:20260415T230544Z
LAST-MODIFIED:20260415T230824Z
UID:10002160-1787164200-1787167800@www.diamondlightsac.org
SUMMARY:Online: Wednesday Meditation Meditation
DESCRIPTION:Join a community of meditators to learn meditation techniques and practices. Led by long time meditator and Buddhist practitioner David Drabble\, join a supportive group to grow your meditation practice.  \nEvery Wednesday from 6:30pm-7:30pm PT\nNo meditation: May 13\, July 8\, July 15\, and July 22 2026 \nOffered on Zoom: \nClick the link to join: https://us04web.zoom.us/j/2247358115\nMeeting ID is: 224 735 8115\nPasscode: 1234 \nDonation Based. We suggest $10-$20 per class. No one will be turned away for lack of funds. Ways to Donate:\nWebsite: www.diamondlightsac.org/donate/\nPayPal: Diamond Light on PayPal\nVenmo: Diamond Light on Venmo
URL:https://www.diamondlightsac.org/event/online-monday-meditation-2-2-2/2026-08-19/
LOCATION:Diamond Light Meditation Center\, 2791 24th Street\, Room 14 (upstairs)\, Sacramento\, CA\, 95818
CATEGORIES:Meditation Class
ORGANIZER;CN="Diamond Light Tibetan Buddhist Group":MAILTO:diamondlight.sac@gmail.com
GEO:38.5603056;-121.4970294
X-APPLE-STRUCTURED-LOCATION;VALUE=URI;X-ADDRESS=Diamond Light Meditation Center 2791 24th Street Room 14 (upstairs) Sacramento CA 95818;X-APPLE-RADIUS=500;X-TITLE=2791 24th Street\, Room 14 (upstairs):geo:-121.4970294,38.5603056
END:VEVENT
END:VCALENDAR