BEGIN:VCALENDAR
VERSION:2.0
PRODID:-//Diamond Light Tibetan Buddhist Group - ECPv6.15.13//NONSGML v1.0//EN
CALSCALE:GREGORIAN
METHOD:PUBLISH
X-ORIGINAL-URL:https://www.diamondlightsac.org
X-WR-CALDESC:Events for Diamond Light Tibetan Buddhist Group
REFRESH-INTERVAL;VALUE=DURATION:PT1H
X-Robots-Tag:noindex
X-PUBLISHED-TTL:PT1H
BEGIN:VTIMEZONE
TZID:America/Denver
BEGIN:DAYLIGHT
TZOFFSETFROM:-0700
TZOFFSETTO:-0600
TZNAME:MDT
DTSTART:20190310T090000
END:DAYLIGHT
BEGIN:STANDARD
TZOFFSETFROM:-0600
TZOFFSETTO:-0700
TZNAME:MST
DTSTART:20191103T080000
END:STANDARD
BEGIN:DAYLIGHT
TZOFFSETFROM:-0700
TZOFFSETTO:-0600
TZNAME:MDT
DTSTART:20200308T090000
END:DAYLIGHT
BEGIN:STANDARD
TZOFFSETFROM:-0600
TZOFFSETTO:-0700
TZNAME:MST
DTSTART:20201101T080000
END:STANDARD
BEGIN:DAYLIGHT
TZOFFSETFROM:-0700
TZOFFSETTO:-0600
TZNAME:MDT
DTSTART:20210314T090000
END:DAYLIGHT
BEGIN:STANDARD
TZOFFSETFROM:-0600
TZOFFSETTO:-0700
TZNAME:MST
DTSTART:20211107T080000
END:STANDARD
END:VTIMEZONE
BEGIN:VEVENT
DTSTART;TZID=America/Denver:20200713T183000
DTEND;TZID=America/Denver:20200713T193000
DTSTAMP:20260424T023757
CREATED:20200711T204622Z
LAST-MODIFIED:20200711T213231Z
UID:10000346-1594665000-1594668600@www.diamondlightsac.org
SUMMARY:Online: Community Meditation in the Tibetan Tradition
DESCRIPTION:Evidence shows that even 5 minutes of meditation a day can go a long way to reduce stress\, increase happiness\, and sharpen focus. Sometimes it seems just getting to the cushion is the biggest obstacle! \nEnjoy community\, support and inspiration. Join long time meditator and Tibetan Buddhist practitioner David Drabble as he shows us what it takes to set up and keep a daily practice! Each class will have instruction\, discussion and meditation. \nDrop-ins encouraged! \nMondays 6:30pm-7:30pmClick the link to join our virtual classroom: https://us04web.zoom.us/j/2247358115 \nsuggested donation: $10-$20 per class\, no one turned away for lack of funds \nhttp://www.diamondlightsac.org
URL:https://www.diamondlightsac.org/event/online-community-meditation-in-the-tibetan-tradition/
LOCATION:Online event
ATTACH;FMTTYPE=image/jpeg:https://www.diamondlightsac.org/wp-content/uploads/2020/07/highres_491091683-cvnPYH.tmp_.jpg
END:VEVENT
END:VCALENDAR