BEGIN:VCALENDAR
VERSION:2.0
PRODID:-//Diamond Light Tibetan Buddhist Group - ECPv6.15.13//NONSGML v1.0//EN
CALSCALE:GREGORIAN
METHOD:PUBLISH
X-WR-CALNAME:Diamond Light Tibetan Buddhist Group
X-ORIGINAL-URL:https://www.diamondlightsac.org
X-WR-CALDESC:Events for Diamond Light Tibetan Buddhist Group
REFRESH-INTERVAL;VALUE=DURATION:PT1H
X-Robots-Tag:noindex
X-PUBLISHED-TTL:PT1H
BEGIN:VTIMEZONE
TZID:UTC
BEGIN:STANDARD
TZOFFSETFROM:+0000
TZOFFSETTO:+0000
TZNAME:UTC
DTSTART:20180101T000000
END:STANDARD
END:VTIMEZONE
BEGIN:VEVENT
DTSTART;TZID=UTC:20190120T100000
DTEND;TZID=UTC:20190120T130000
DTSTAMP:20260423T203105
CREATED:20181207T114434Z
LAST-MODIFIED:20181207T114434Z
UID:10000216-1547978400-1547989200@www.diamondlightsac.org
SUMMARY:Female Buddhas: Exploration of Tantric Lineages w/ Glenn Mullin
DESCRIPTION:Jewel Heart Northern California and Diamond Light Tibetan Buddhist Group are excited to welcome Glenn Mullin to Sacramento! Tibetan Buddhism is rich in lineages descending through great female masters\, such as Niguma\, Sukkhasiddhi\, and Siddharani. This weekend workshop will explore some of the key themes of their teachings\, and how these are relevant in modern life. \nSuggested donation: $80-$120 \nSaturday\, January 19\, 10:00am-12:00pm & 2:00pm-5:00pm\nSunday\, January 20\, 10:00am-1:00pm\nat Diamond Light Meditation Center\n2791 24th Street\, Room 14\, (upstairs)\nSacramento\, CA 95818\nparking lot in back\, ADA accessible \nSpace is limited\, to ensure you are able to attend\, please preregister at:\nhttps://www.jewelheart.org/events/2019-glenn-mullin-tour-norcal-registration/?s2p-option=7 \nGLENN MULLIN is a Tibetologist\, Buddhist writer\, translator of classical Tibetan literature\, and teacher of Tantric Buddhist meditation. He studied philosophy\, literature\, meditation\, yoga\, and the enlightenment culture under thirty-five of the greatest living masters of the four schools of Tibetan Buddhism. Glenn is the author of over 20 books on Tibetan Buddhism\, founded and directed the Mystical Arts of Tibet\, and has curated a number of important Tibetan art exhibitions. He divides his time between writing\, teaching\, meditating\, and leading tour groups to the power places of Nepal and Tibet. \nFor more information\, visit http://www.glennmullin.com/
URL:https://www.diamondlightsac.org/event/female-buddhas-exploration-of-tantric-lineages-w-glenn-mullin/2019-01-20/
LOCATION:Diamond Light Meditation Center\, 2791 24th Street\, Room 14 (upstairs)\, Sacramento\, CA\, 95818
ORGANIZER;CN="Diamond Light Tibetan Buddhist Group":MAILTO:diamondlight.sac@gmail.com
GEO:38.5603056;-121.4970294
X-APPLE-STRUCTURED-LOCATION;VALUE=URI;X-ADDRESS=Diamond Light Meditation Center 2791 24th Street Room 14 (upstairs) Sacramento CA 95818;X-APPLE-RADIUS=500;X-TITLE=2791 24th Street\, Room 14 (upstairs):geo:-121.4970294,38.5603056
END:VEVENT
BEGIN:VEVENT
DTSTART;TZID=UTC:20190118T190000
DTEND;TZID=UTC:20190118T210000
DTSTAMP:20260423T203105
CREATED:20181206T100620Z
LAST-MODIFIED:20181206T100620Z
UID:10000204-1547838000-1547845200@www.diamondlightsac.org
SUMMARY:Enlightenment Tips from the 14 Dalai Lamas with Glenn Mullin
DESCRIPTION:Jewel Heart Northern California and Diamond Light Tibetan Buddhist Group are excited to welcome Glenn Mullin to Sacramento! Reading from his books “The Fourteen Dalai Lamas: A Sacred Legacy of Reincarnation” and “From the Heart of Chenrezig: The Dalai Lamas on Tantra\,” Glenn Mullin will distill the simple principles of happiness\, humor and wholeness embodied in the lives and teachings of the Dalai Lamas.  \nSuggested donation: $20 \nFriday\, January 18\, 7pm-9pm\nat Diamond Light Meditation Center\n2791 24th Street\, Room 14\, (upstairs)\nSacramento\, CA 95818\nparking lot in back\, ADA accessible \nSpace is limited\, to ensure you are able to attend\, please preregister at:\nhttps://www.jewelheart.org/events/2019-glenn-mullin-tour-norcal-registration/?s2p-option=7 \nGLENN MULLIN is a Tibetologist\, Buddhist writer\, translator of classical Tibetan literature\, and teacher of Tantric Buddhist meditation. He studied philosophy\, literature\, meditation\, yoga\, and the enlightenment culture under thirty-five of the greatest living masters of the four schools of Tibetan Buddhism. Glenn is the author of over 20 books on Tibetan Buddhism\, founded and directed the Mystical Arts of Tibet\, and has curated a number of important Tibetan art exhibitions. He divides his time between writing\, teaching\, meditating\, and leading tour groups to the power places of Nepal and Tibet.
URL:https://www.diamondlightsac.org/event/enlightenment-tips-from-the-14-dalai-lamas-with-glenn-mullin/
LOCATION:Diamond Light Meditation Center\, 2791 24th Street\, Room 14 (upstairs)\, Sacramento\, CA\, 95818
ORGANIZER;CN="Diamond Light Tibetan Buddhist Group":MAILTO:diamondlight.sac@gmail.com
GEO:38.5603056;-121.4970294
X-APPLE-STRUCTURED-LOCATION;VALUE=URI;X-ADDRESS=Diamond Light Meditation Center 2791 24th Street Room 14 (upstairs) Sacramento CA 95818;X-APPLE-RADIUS=500;X-TITLE=2791 24th Street\, Room 14 (upstairs):geo:-121.4970294,38.5603056
END:VEVENT
END:VCALENDAR